BEGIN:VCALENDAR
PRODID:-//dvv-bw.de//dvv.Portalplattform//DE
VERSION:2.0
METHOD:PUBLISH
BEGIN:VEVENT
DTSTART:20260421T173000Z
DTEND:20260421T193000Z
DTSTAMP:20260421T173000Z
UID:34878251-34878151-1776722400000
SUMMARY:Öffentliche Ortschaftsratssitzung
DESCRIPTION:Öffentlichen Ortschaftsratssitzung am Dienstag\, 21.04.2026\, um 19:30 Uhr\, in den Pfarrsaal Oberlauda
CLASS:PUBLIC
X-ALT-DESC;FMTTYPE=text/html:Öffentlichen Ortschaftsratssitzung am Dienstag\, 21.04.2026\, um 19:30 Uhr\, in den Pfarrsaal Oberlauda
END:VEVENT
BEGIN:VEVENT
DTSTART:20260429T220000Z
DTEND:20260430T220000Z
DTSTAMP:20260421T085346Z
RRULE;FREQ=DAILY;UNTIL=20260501T215959Z
UID:35008952-35008852-1777500000000
SUMMARY:38. Maibaumfest des KJC Oberlauda
DESCRIPTION:38. Maibaumfest des KJC Oberlauda
Donnerstag, 30.04.2026, 17:00 Uhr
Freitag, 01.05.2026, 10:30 Uhr
Festzelt an der Turn- und Festhalle
CLASS:PUBLIC
X-ALT-DESC;FMTTYPE=text/html:38. Maibaumfest des KJC Oberlauda<br>Donnerstag, 30.04.2026, 17:00 Uhr<br>Freitag, 01.05.2026, 10:30 Uhr<br>Festzelt an der Turn- und Festhalle
END:VEVENT
END:VCALENDAR
